BEGIN:VCALENDAR
VERSION:2.0
CALSCALE:GREGORIAN
BEGIN:VEVENT
URL:https://www.learndesk.us/class/6638102833528832/lesson/70165cc6946f6a09ea1aab12b05eeedb?ref=outlook-calendar
SUMMARY:Time Prediction 
DTSTART;TZID=America/Los_Angeles:20260421T190000
DTEND;TZID=America/Los_Angeles:20260421T200000
LOCATION:https://www.learndesk.us/class/6638102833528832/lesson/70165cc6946f6a09ea1aab12b05eeedb?ref=outlook-calendar
DESCRIPTION: This document contains valuable guidance on time prediction.&nbsp;
This document contains:

Time frame - Prediction
Side notes


https://www.learndesk.us/class/6638102833528832/lesson/70165cc6946f6a09ea1aab12b05eeedb?ref=outlook-calendar
STATUS:CONFIRMED
SEQUENCE:3
BEGIN:VALARM
TRIGGER:-PT10M
DESCRIPTION:Class Reminder
ACTION:DISPLAY
END:VALARM
END:VEVENT
END:VCALENDAR