BEGIN:VCALENDAR
VERSION:2.0
CALSCALE:GREGORIAN
BEGIN:VEVENT
URL:https://www.learndesk.us/class/6638102833528832/lesson/4dfc08f08c6dd78ab831270b37ce2ef0?ref=outlook-calendar
SUMMARY:Positive Action Cards
DTSTART;TZID=America/Los_Angeles:20260421T190000
DTEND;TZID=America/Los_Angeles:20260421T200000
LOCATION:https://www.learndesk.us/class/6638102833528832/lesson/4dfc08f08c6dd78ab831270b37ce2ef0?ref=outlook-calendar
DESCRIPTION: In this video, we look at positive action and outcome cards.
We look closely at the meaning of each card and how to use them in a reading.
This section contains:

Card 21&ndash; Strategy and planning
Card 29&ndash; The world
Card 2 -&nbsp; The journey
Card 31&ndash; Door to value
Card 24 &ndash; Open doors and adjacent possibilities.



https://www.learndesk.us/class/6638102833528832/lesson/4dfc08f08c6dd78ab831270b37ce2ef0?ref=outlook-calendar
STATUS:CONFIRMED
SEQUENCE:3
BEGIN:VALARM
TRIGGER:-PT10M
DESCRIPTION:Class Reminder
ACTION:DISPLAY
END:VALARM
END:VEVENT
END:VCALENDAR