BEGIN:VCALENDAR
VERSION:2.0
CALSCALE:GREGORIAN
BEGIN:VEVENT
URL:https://www.learndesk.us/class/6638102833528832/lesson/29c76470e8b573059119a7a494a1ebb1?ref=outlook-calendar
SUMMARY:Chakra Oracle Energy Cards
DTSTART;TZID=America/Los_Angeles:20260421T190000
DTEND;TZID=America/Los_Angeles:20260421T200000
LOCATION:https://www.learndesk.us/class/6638102833528832/lesson/29c76470e8b573059119a7a494a1ebb1?ref=outlook-calendar
DESCRIPTION: In this section, you will learn about the Chakras or energy centers.&nbsp;
We will learn about the meaning and how these cards affect your client.
In these videos you will learn about the:

Base Chakra
Sacral Chakra
Solar Plexus
Heart Chakra
Throat Chakra
Third Eye
Crown Chakra



https://www.learndesk.us/class/6638102833528832/lesson/29c76470e8b573059119a7a494a1ebb1?ref=outlook-calendar
STATUS:CONFIRMED
SEQUENCE:3
BEGIN:VALARM
TRIGGER:-PT10M
DESCRIPTION:Class Reminder
ACTION:DISPLAY
END:VALARM
END:VEVENT
END:VCALENDAR