BEGIN:VCALENDAR
VERSION:2.0
CALSCALE:GREGORIAN
BEGIN:VEVENT
URL:https://www.learndesk.us/class/6638102833528832/lesson/2864863575524ead51f9a4885299ab58?ref=outlook-calendar
SUMMARY:Feminine Oracle Energy Cards
DTSTART;TZID=America/Los_Angeles:20260421T190000
DTEND;TZID=America/Los_Angeles:20260421T200000
LOCATION:https://www.learndesk.us/class/6638102833528832/lesson/2864863575524ead51f9a4885299ab58?ref=outlook-calendar
DESCRIPTION: In this video, we look at 4 Feminine oracle energy cards.
We look closely at the meaning of the cards and how we will use them in a reading.
This section contains:

Card 1 -&nbsp; The sun
Card 50 - The angel of strength
Cards 52 - Goddess of the moon
Card 15 - Appreciation&nbsp;



https://www.learndesk.us/class/6638102833528832/lesson/2864863575524ead51f9a4885299ab58?ref=outlook-calendar
STATUS:CONFIRMED
SEQUENCE:3
BEGIN:VALARM
TRIGGER:-PT10M
DESCRIPTION:Class Reminder
ACTION:DISPLAY
END:VALARM
END:VEVENT
END:VCALENDAR