BEGIN:VCALENDAR
VERSION:2.0
CALSCALE:GREGORIAN
BEGIN:VEVENT
URL:https://www.learndesk.us/class/6638102833528832/lesson/0d16b57efc05d80a3cf02782e1948234?ref=outlook-calendar
SUMMARY:Welcome Note
DTSTART;TZID=America/Los_Angeles:20260421T190000
DTEND;TZID=America/Los_Angeles:20260421T200000
LOCATION:https://www.learndesk.us/class/6638102833528832/lesson/0d16b57efc05d80a3cf02782e1948234?ref=outlook-calendar
DESCRIPTION: Welcome dear student
Please watch and listen to your first video welcome introduction.
Congratulations on your new journey.

Diamond-Numerology-Psychics-Academy

https://www.learndesk.us/class/6638102833528832/lesson/0d16b57efc05d80a3cf02782e1948234?ref=outlook-calendar
STATUS:CONFIRMED
SEQUENCE:3
BEGIN:VALARM
TRIGGER:-PT10M
DESCRIPTION:Class Reminder
ACTION:DISPLAY
END:VALARM
END:VEVENT
END:VCALENDAR