BEGIN:VCALENDAR
VERSION:2.0
CALSCALE:GREGORIAN
BEGIN:VEVENT
URL:https://www.learndesk.us/class/6638102833528832/become-an-oracle-tarot-reader-in-7-days?ref=outlook-calendar
SUMMARY:Become an Oracle Tarot Reader in 7 Days
DTSTART;TZID=America/Los_Angeles:20260421T190000
DTEND;TZID=America/Los_Angeles:20260421T200000
LOCATION:https://www.learndesk.us/class/6638102833528832/become-an-oracle-tarot-reader-in-7-days?ref=outlook-calendar
DESCRIPTION: This is a one-of-a-kind beginners tarot reading course to help you to become an Oracle tarot reader in 7 days.

On completion of your course, you will have a one-to-one class with us, where the student gives an Oracle energy tarot reading.
We will act as your first client and help and direct you on your reading style and give you valuable guidance and tips.
Confidence is important and practical experience is what allows us to be confident in providing a reading style.

What will you learn in this course?

Guide you with the technique and skill to assist you to start with one-to-one readings, online or in person.
How to layout your deck and understand how it relates to clients.
To help you learn to trust your judgment and to read the energy.
To help you be confident in your reading style.
To assist you in adding knowledge and wisdom such as energy, spirituality, and healing.

Certification

Upon completion of your course and one-to-one class, you will receive certification on...

https://www.learndesk.us/class/6638102833528832/become-an-oracle-tarot-reader-in-7-days?ref=outlook-calendar
STATUS:CONFIRMED
SEQUENCE:3
BEGIN:VALARM
TRIGGER:-PT10M
DESCRIPTION:Class Reminder
ACTION:DISPLAY
END:VALARM
END:VEVENT
END:VCALENDAR