BEGIN:VCALENDAR
VERSION:2.0
CALSCALE:GREGORIAN
BEGIN:VEVENT
URL:https://www.learndesk.us/class/6621530588971008/lesson/f6d7504f16e1f616489ee7db138141bc?ref=outlook-calendar
SUMMARY:Practice Question For This Module
DTSTART;TZID=America/Los_Angeles:20260421T190000
DTEND;TZID=America/Los_Angeles:20260421T200000
LOCATION:https://www.learndesk.us/class/6621530588971008/lesson/f6d7504f16e1f616489ee7db138141bc?ref=outlook-calendar
DESCRIPTION: https://www.learndesk.us/class/6621530588971008/lesson/f6d7504f16e1f616489ee7db138141bc?ref=outlook-calendar
STATUS:CONFIRMED
SEQUENCE:3
BEGIN:VALARM
TRIGGER:-PT10M
DESCRIPTION:Class Reminder
ACTION:DISPLAY
END:VALARM
END:VEVENT
END:VCALENDAR