BEGIN:VCALENDAR
VERSION:2.0
CALSCALE:GREGORIAN
BEGIN:VEVENT
URL:https://www.learndesk.us/class/6621530588971008/lesson/afbd4295bacc5f478d7d0a2e5866ff7b?ref=outlook-calendar
SUMMARY:Auto-cad 3D (Introduction)
DTSTART;TZID=America/Los_Angeles:20260421T190000
DTEND;TZID=America/Los_Angeles:20260421T200000
LOCATION:https://www.learndesk.us/class/6621530588971008/lesson/afbd4295bacc5f478d7d0a2e5866ff7b?ref=outlook-calendar
DESCRIPTION: https://www.learndesk.us/class/6621530588971008/lesson/afbd4295bacc5f478d7d0a2e5866ff7b?ref=outlook-calendar
STATUS:CONFIRMED
SEQUENCE:3
BEGIN:VALARM
TRIGGER:-PT10M
DESCRIPTION:Class Reminder
ACTION:DISPLAY
END:VALARM
END:VEVENT
END:VCALENDAR