BEGIN:VCALENDAR
VERSION:2.0
CALSCALE:GREGORIAN
BEGIN:VEVENT
URL:https://www.learndesk.us/class/6610625226604544/lesson/d22de464e57f41f9b27d5d54ba2e69c7?ref=outlook-calendar
SUMMARY:Mathematics and Automating Routine Tasks
DTSTART;TZID=America/Los_Angeles:20260425T190000
DTEND;TZID=America/Los_Angeles:20260425T200000
LOCATION:https://www.learndesk.us/class/6610625226604544/lesson/d22de464e57f41f9b27d5d54ba2e69c7?ref=outlook-calendar
DESCRIPTION: https://www.learndesk.us/class/6610625226604544/lesson/d22de464e57f41f9b27d5d54ba2e69c7?ref=outlook-calendar
STATUS:CONFIRMED
SEQUENCE:3
BEGIN:VALARM
TRIGGER:-PT10M
DESCRIPTION:Class Reminder
ACTION:DISPLAY
END:VALARM
END:VEVENT
END:VCALENDAR