BEGIN:VCALENDAR
VERSION:2.0
CALSCALE:GREGORIAN
BEGIN:VEVENT
URL:https://www.learndesk.us/class/6610625226604544/latex-for-everyone-and-everything?ref=outlook-calendar
SUMMARY:LaTex For Everyone and Everything
DTSTART;TZID=America/Los_Angeles:20260425T190000
DTEND;TZID=America/Los_Angeles:20260425T200000
LOCATION:https://www.learndesk.us/class/6610625226604544/latex-for-everyone-and-everything?ref=outlook-calendar
DESCRIPTION: 
Learn LaTeX from scratch in an easy to follow but highly effective way. Get up to the level of professional document writeup, presentation creation and even generating graphics in LaTeX. Added video on creating beautiful Gantt charts using LaTeX.
The instructor is a teacher and researcher by profession. Ph.D. in security and a postdoc from the Max Planck Institute for software systems, Germany. Designer and photographer by hobby. Have an eye for design.
What will you learn in this course?

You will learn the basics of creating a document 
You will learn citations and references
You will learn mathematics and algorithm including graphics and tables 
You will learn about TikZ drawing figures in LaTeX
You will learn about the presentations in LaTeX 
You will learn about automating stuff
You will learn about the tips to make your documents stand out 

Who should take this course?

Absolute beginners 
People who want to impress others with their professional-looking...

https://www.learndesk.us/class/6610625226604544/latex-for-everyone-and-everything?ref=outlook-calendar
STATUS:CONFIRMED
SEQUENCE:3
BEGIN:VALARM
TRIGGER:-PT10M
DESCRIPTION:Class Reminder
ACTION:DISPLAY
END:VALARM
END:VEVENT
END:VCALENDAR