BEGIN:VCALENDAR
VERSION:2.0
CALSCALE:GREGORIAN
BEGIN:VEVENT
URL:https://www.learndesk.us/class/6606029947142144/lesson/fee69fffbf624084646f5f4cb6d83e3f?ref=outlook-calendar
SUMMARY:Theory Time - Pseudo Classes and Pseudo Elements
DTSTART;TZID=America/Los_Angeles:20260423T190000
DTEND;TZID=America/Los_Angeles:20260423T200000
LOCATION:https://www.learndesk.us/class/6606029947142144/lesson/fee69fffbf624084646f5f4cb6d83e3f?ref=outlook-calendar
DESCRIPTION: Time to dive into the theory. We already applied pseudo classes, but which additional values are available and what is the difference between a pseudo class and a pseudo-element? Let's find the answers in this video.

https://www.learndesk.us/class/6606029947142144/lesson/fee69fffbf624084646f5f4cb6d83e3f?ref=outlook-calendar
STATUS:CONFIRMED
SEQUENCE:3
BEGIN:VALARM
TRIGGER:-PT10M
DESCRIPTION:Class Reminder
ACTION:DISPLAY
END:VALARM
END:VEVENT
END:VCALENDAR