BEGIN:VCALENDAR
VERSION:2.0
CALSCALE:GREGORIAN
BEGIN:VEVENT
URL:https://www.learndesk.us/class/6606029947142144/lesson/fdad3f5d13e8753fbe8a27527ce67668?ref=outlook-calendar
SUMMARY:Understanding the Stacking Context
DTSTART;TZID=America/Los_Angeles:20260423T190000
DTEND;TZID=America/Los_Angeles:20260423T200000
LOCATION:https://www.learndesk.us/class/6606029947142144/lesson/fdad3f5d13e8753fbe8a27527ce67668?ref=outlook-calendar
DESCRIPTION: The "z-index" allows us to define the element position along the z-axis. But we should not be able to position children of our parent above our parent's neighbours. With the Stacking Context we can easily control that.

https://www.learndesk.us/class/6606029947142144/lesson/fdad3f5d13e8753fbe8a27527ce67668?ref=outlook-calendar
STATUS:CONFIRMED
SEQUENCE:3
BEGIN:VALARM
TRIGGER:-PT10M
DESCRIPTION:Class Reminder
ACTION:DISPLAY
END:VALARM
END:VEVENT
END:VCALENDAR