BEGIN:VCALENDAR
VERSION:2.0
CALSCALE:GREGORIAN
BEGIN:VEVENT
URL:https://www.learndesk.us/class/6606029947142144/lesson/fd7ba31f807ea88619da40f3a8485769?ref=outlook-calendar
SUMMARY:Applying Autoflow
DTSTART;TZID=America/Los_Angeles:20260423T190000
DTEND;TZID=America/Los_Angeles:20260423T200000
LOCATION:https://www.learndesk.us/class/6606029947142144/lesson/fd7ba31f807ea88619da40f3a8485769?ref=outlook-calendar
DESCRIPTION: Whenever applying "display: grid" to a parent element, the Grid will automatically create new rows for the direct child elements of this element. But how can we control and change this default behaviour? Time to find out how this works.

https://www.learndesk.us/class/6606029947142144/lesson/fd7ba31f807ea88619da40f3a8485769?ref=outlook-calendar
STATUS:CONFIRMED
SEQUENCE:3
BEGIN:VALARM
TRIGGER:-PT10M
DESCRIPTION:Class Reminder
ACTION:DISPLAY
END:VALARM
END:VEVENT
END:VCALENDAR