BEGIN:VCALENDAR
VERSION:2.0
CALSCALE:GREGORIAN
BEGIN:VEVENT
URL:https://www.learndesk.us/class/6606029947142144/lesson/fd576dca9e61494f891d26cf7d7e6a49?ref=outlook-calendar
SUMMARY:Comparing Generic Families and Font Families
DTSTART;TZID=America/Los_Angeles:20260425T190000
DTEND;TZID=America/Los_Angeles:20260425T200000
LOCATION:https://www.learndesk.us/class/6606029947142144/lesson/fd576dca9e61494f891d26cf7d7e6a49?ref=outlook-calendar
DESCRIPTION: Before we dive into fonts we have to understand the general concepts behind them. So let's have a look at generic families and font families in this lecture.

https://www.learndesk.us/class/6606029947142144/lesson/fd576dca9e61494f891d26cf7d7e6a49?ref=outlook-calendar
STATUS:CONFIRMED
SEQUENCE:3
BEGIN:VALARM
TRIGGER:-PT10M
DESCRIPTION:Class Reminder
ACTION:DISPLAY
END:VALARM
END:VEVENT
END:VCALENDAR