BEGIN:VCALENDAR
VERSION:2.0
CALSCALE:GREGORIAN
BEGIN:VEVENT
URL:https://www.learndesk.us/class/6606029947142144/lesson/fca74e631a5df652445ba1eead56025e?ref=outlook-calendar
SUMMARY:Creating Automatically Generated Grid Areas
DTSTART;TZID=America/Los_Angeles:20260425T190000
DTEND;TZID=America/Los_Angeles:20260425T200000
LOCATION:https://www.learndesk.us/class/6606029947142144/lesson/fca74e631a5df652445ba1eead56025e?ref=outlook-calendar
DESCRIPTION: We understood the concept of areas and we also worked with line names. In this lecture we will learn how to add column names and how to place elements inside our template area with the help of line names. We'll also learn how to create an automatically generated Grid area.

https://www.learndesk.us/class/6606029947142144/lesson/fca74e631a5df652445ba1eead56025e?ref=outlook-calendar
STATUS:CONFIRMED
SEQUENCE:3
BEGIN:VALARM
TRIGGER:-PT10M
DESCRIPTION:Class Reminder
ACTION:DISPLAY
END:VALARM
END:VEVENT
END:VCALENDAR