BEGIN:VCALENDAR
VERSION:2.0
CALSCALE:GREGORIAN
BEGIN:VEVENT
URL:https://www.learndesk.us/class/6606029947142144/lesson/fb48825b314629fde4c6d431c256f25f?ref=outlook-calendar
SUMMARY:Understanding the "viewport" Metatag
DTSTART;TZID=America/Los_Angeles:20260422T190000
DTEND;TZID=America/Los_Angeles:20260422T200000
LOCATION:https://www.learndesk.us/class/6606029947142144/lesson/fb48825b314629fde4c6d431c256f25f?ref=outlook-calendar
DESCRIPTION: We understand the basic concept of the "viewport" metatag, but which additional options do we have to control the user actions? Let's find that out in this video.

https://www.learndesk.us/class/6606029947142144/lesson/fb48825b314629fde4c6d431c256f25f?ref=outlook-calendar
STATUS:CONFIRMED
SEQUENCE:3
BEGIN:VALARM
TRIGGER:-PT10M
DESCRIPTION:Class Reminder
ACTION:DISPLAY
END:VALARM
END:VEVENT
END:VCALENDAR