BEGIN:VCALENDAR
VERSION:2.0
CALSCALE:GREGORIAN
BEGIN:VEVENT
URL:https://www.learndesk.us/class/6606029947142144/lesson/f946fdaac252018c1e5cd50bd221749e?ref=outlook-calendar
SUMMARY:Properties Worth to Remember
DTSTART;TZID=America/Los_Angeles:20260422T190000
DTEND;TZID=America/Los_Angeles:20260422T200000
LOCATION:https://www.learndesk.us/class/6606029947142144/lesson/f946fdaac252018c1e5cd50bd221749e?ref=outlook-calendar
DESCRIPTION: Puh, we worked with a lot of properties so far. Of course we don't have to remember every single property, but you will probably use some properties a lot. This short list will help you remembering these.

https://www.learndesk.us/class/6606029947142144/lesson/f946fdaac252018c1e5cd50bd221749e?ref=outlook-calendar
STATUS:CONFIRMED
SEQUENCE:3
BEGIN:VALARM
TRIGGER:-PT10M
DESCRIPTION:Class Reminder
ACTION:DISPLAY
END:VALARM
END:VEVENT
END:VCALENDAR