BEGIN:VCALENDAR
VERSION:2.0
CALSCALE:GREGORIAN
BEGIN:VEVENT
URL:https://www.learndesk.us/class/6606029947142144/lesson/f8e0608f46042fb4304c80c31a0d8af8?ref=outlook-calendar
SUMMARY:Importing our Custom Fonts
DTSTART;TZID=America/Los_Angeles:20260422T190000
DTEND;TZID=America/Los_Angeles:20260422T200000
LOCATION:https://www.learndesk.us/class/6606029947142144/lesson/f8e0608f46042fb4304c80c31a0d8af8?ref=outlook-calendar
DESCRIPTION: Time to have a look at the last option to add new font families to our website. Let's learn how we can use @font-face to add our own custom font to our website.

https://www.learndesk.us/class/6606029947142144/lesson/f8e0608f46042fb4304c80c31a0d8af8?ref=outlook-calendar
STATUS:CONFIRMED
SEQUENCE:3
BEGIN:VALARM
TRIGGER:-PT10M
DESCRIPTION:Class Reminder
ACTION:DISPLAY
END:VALARM
END:VEVENT
END:VCALENDAR