BEGIN:VCALENDAR
VERSION:2.0
CALSCALE:GREGORIAN
BEGIN:VEVENT
URL:https://www.learndesk.us/class/6606029947142144/lesson/f841b4356a4eb01fd56310fde76af222?ref=outlook-calendar
SUMMARY:Understanding Inheritance
DTSTART;TZID=America/Los_Angeles:20260422T190000
DTEND;TZID=America/Los_Angeles:20260422T200000
LOCATION:https://www.learndesk.us/class/6606029947142144/lesson/f841b4356a4eb01fd56310fde76af222?ref=outlook-calendar
DESCRIPTION: We understood Specificity so the general styling logic is clear now. Unfortunately not, there is one additional core concept we definitely have to understand: Inheritance. Time to add this to our project and to understand it in this video.

https://www.learndesk.us/class/6606029947142144/lesson/f841b4356a4eb01fd56310fde76af222?ref=outlook-calendar
STATUS:CONFIRMED
SEQUENCE:3
BEGIN:VALARM
TRIGGER:-PT10M
DESCRIPTION:Class Reminder
ACTION:DISPLAY
END:VALARM
END:VEVENT
END:VCALENDAR