BEGIN:VCALENDAR
VERSION:2.0
CALSCALE:GREGORIAN
BEGIN:VEVENT
URL:https://www.learndesk.us/class/6606029947142144/lesson/f825ed53e6b4b5fea318f1bfbad70cc9?ref=outlook-calendar
SUMMARY:Adding Pseudo Classes
DTSTART;TZID=America/Los_Angeles:20260423T190000
DTEND;TZID=America/Los_Angeles:20260423T200000
LOCATION:https://www.learndesk.us/class/6606029947142144/lesson/f825ed53e6b4b5fea318f1bfbad70cc9?ref=outlook-calendar
DESCRIPTION: Pseudo classes are a big help to improve the user experience on our website. Why don't we take the chance and apply some pseudo-classes in our project?

https://www.learndesk.us/class/6606029947142144/lesson/f825ed53e6b4b5fea318f1bfbad70cc9?ref=outlook-calendar
STATUS:CONFIRMED
SEQUENCE:3
BEGIN:VALARM
TRIGGER:-PT10M
DESCRIPTION:Class Reminder
ACTION:DISPLAY
END:VALARM
END:VEVENT
END:VCALENDAR