BEGIN:VCALENDAR
VERSION:2.0
CALSCALE:GREGORIAN
BEGIN:VEVENT
URL:https://www.learndesk.us/class/6606029947142144/lesson/f7d7e4e786262de945f8c73e4a4049cb?ref=outlook-calendar
SUMMARY:Positioning Child Elements in a Grid
DTSTART;TZID=America/Los_Angeles:20260422T190000
DTEND;TZID=America/Los_Angeles:20260422T200000
LOCATION:https://www.learndesk.us/class/6606029947142144/lesson/f7d7e4e786262de945f8c73e4a4049cb?ref=outlook-calendar
DESCRIPTION: After creating the Grid each element uses one cell. What if we want to overwrite this default behaviour and define the position of the elements inside the Grid manually? Let me show you how this works in this lecture.

https://www.learndesk.us/class/6606029947142144/lesson/f7d7e4e786262de945f8c73e4a4049cb?ref=outlook-calendar
STATUS:CONFIRMED
SEQUENCE:3
BEGIN:VALARM
TRIGGER:-PT10M
DESCRIPTION:Class Reminder
ACTION:DISPLAY
END:VALARM
END:VEVENT
END:VCALENDAR