BEGIN:VCALENDAR
VERSION:2.0
CALSCALE:GREGORIAN
BEGIN:VEVENT
URL:https://www.learndesk.us/class/6606029947142144/lesson/f675ff9e45c3534d3c03046eaa9a433d?ref=outlook-calendar
SUMMARY:Adding Flexbox to our Project
DTSTART;TZID=America/Los_Angeles:20260425T190000
DTEND;TZID=America/Los_Angeles:20260425T200000
LOCATION:https://www.learndesk.us/class/6606029947142144/lesson/f675ff9e45c3534d3c03046eaa9a433d?ref=outlook-calendar
DESCRIPTION: 
Here, we add flexbox to our project. The author leads the way.

Optional: Expert Track Introduction
Module Introduction
How we Could Improve our Project
Understanding Flexbox
Creating a Flex Container
Using "flex-direction" and "flex-wrap"
Understanding the Importance of Main Axis and Cross Axis
Working with "align-items" and "justify-content"
And What About "align-content"?
Improving the Navigation Bar with Flexbox
Your Challenge - Working on the Mobile Navigation Bar
Improving the Footer
Adding Flexbox to the Customers Page
Using the "order" Property for a Flex Item
Working with "align-self"
Understanding "flex-grow"
Applying "flex-shrink"
Comparing "flex-basis" vs "width" and "height"
Wrap Up



https://www.learndesk.us/class/6606029947142144/lesson/f675ff9e45c3534d3c03046eaa9a433d?ref=outlook-calendar
STATUS:CONFIRMED
SEQUENCE:3
BEGIN:VALARM
TRIGGER:-PT10M
DESCRIPTION:Class Reminder
ACTION:DISPLAY
END:VALARM
END:VEVENT
END:VCALENDAR