BEGIN:VCALENDAR
VERSION:2.0
CALSCALE:GREGORIAN
BEGIN:VEVENT
URL:https://www.learndesk.us/class/6606029947142144/lesson/ee91896f76d9edbf2ec703f55bf170bc?ref=outlook-calendar
SUMMARY:Working with Text and Fonts
DTSTART;TZID=America/Los_Angeles:20260422T190000
DTEND;TZID=America/Los_Angeles:20260422T200000
LOCATION:https://www.learndesk.us/class/6606029947142144/lesson/ee91896f76d9edbf2ec703f55bf170bc?ref=outlook-calendar
DESCRIPTION: 
In this section, we work with texts and fonts by importing custom fonts

Module Introduction
Comparing Generic Families and Font Families
Understanding the Browser Settings
Using the Default Font Families
Understanding the "font-family" Syntax
Working with Locally Saved Fonts
Working with Google Fonts
Understanding Font Faces and "font-style"
Importing our Custom Fonts
Understanding Font Formats
Diving into Font Properties
Adding "letter-spacing"
Changing the Line Height
Applying "text-decoration" and "text-shadow"
Understanding the "font" Shorthand
Loading Performance and "font-display"
Wrap Up



https://www.learndesk.us/class/6606029947142144/lesson/ee91896f76d9edbf2ec703f55bf170bc?ref=outlook-calendar
STATUS:CONFIRMED
SEQUENCE:3
BEGIN:VALARM
TRIGGER:-PT10M
DESCRIPTION:Class Reminder
ACTION:DISPLAY
END:VALARM
END:VEVENT
END:VCALENDAR