BEGIN:VCALENDAR
VERSION:2.0
CALSCALE:GREGORIAN
BEGIN:VEVENT
URL:https://www.learndesk.us/class/6606029947142144/lesson/ee8139da88a6259e776edf7e58161d19?ref=outlook-calendar
SUMMARY:Selecting the Opposite with: not()
DTSTART;TZID=America/Los_Angeles:20260422T190000
DTEND;TZID=America/Los_Angeles:20260422T200000
LOCATION:https://www.learndesk.us/class/6606029947142144/lesson/ee8139da88a6259e776edf7e58161d19?ref=outlook-calendar
DESCRIPTION: Thus far, we always set our rules up to select certain elements. You can also set up rules that DON'T select something.

https://www.learndesk.us/class/6606029947142144/lesson/ee8139da88a6259e776edf7e58161d19?ref=outlook-calendar
STATUS:CONFIRMED
SEQUENCE:3
BEGIN:VALARM
TRIGGER:-PT10M
DESCRIPTION:Class Reminder
ACTION:DISPLAY
END:VALARM
END:VEVENT
END:VCALENDAR