BEGIN:VCALENDAR
VERSION:2.0
CALSCALE:GREGORIAN
BEGIN:VEVENT
URL:https://www.learndesk.us/class/6606029947142144/lesson/ee178639a90d3af728b877c1f73a1676?ref=outlook-calendar
SUMMARY:Introducing Sass (Syntactically Awesome Style Sheets)
DTSTART;TZID=America/Los_Angeles:20260422T190000
DTEND;TZID=America/Los_Angeles:20260422T200000
LOCATION:https://www.learndesk.us/class/6606029947142144/lesson/ee178639a90d3af728b877c1f73a1676?ref=outlook-calendar
DESCRIPTION: 
In this section, we are introduced to SASS wherein we look into installation and various properties.

Module Introduction
What is Sass and Scss?
Installing Sass
Things to be improved with Sass
Nesting Selectors
Adding Nested Properties
Understanding Variables
Storing Lists and Maps in Variables
Built-In Functions
Adding Simple Arithmetics
Adding Better Import and Partials
Improving Media Queries
Understanding Inheritance
Adding Mixins
Using the Ampersand Operator
Wrap Up



https://www.learndesk.us/class/6606029947142144/lesson/ee178639a90d3af728b877c1f73a1676?ref=outlook-calendar
STATUS:CONFIRMED
SEQUENCE:3
BEGIN:VALARM
TRIGGER:-PT10M
DESCRIPTION:Class Reminder
ACTION:DISPLAY
END:VALARM
END:VEVENT
END:VCALENDAR