BEGIN:VCALENDAR
VERSION:2.0
CALSCALE:GREGORIAN
BEGIN:VEVENT
URL:https://www.learndesk.us/class/6606029947142144/lesson/eadda31e90779f091e40c7a420a6b2da?ref=outlook-calendar
SUMMARY:Working with "font-weight" and "border"
DTSTART;TZID=America/Los_Angeles:20260422T190000
DTEND;TZID=America/Los_Angeles:20260422T200000
LOCATION:https://www.learndesk.us/class/6606029947142144/lesson/eadda31e90779f091e40c7a420a6b2da?ref=outlook-calendar
DESCRIPTION: We constantly improve the look of our website, so let's use "font-weight" to change the default font style of selected elements. In addition to that, it's also time to add some borders.

https://www.learndesk.us/class/6606029947142144/lesson/eadda31e90779f091e40c7a420a6b2da?ref=outlook-calendar
STATUS:CONFIRMED
SEQUENCE:3
BEGIN:VALARM
TRIGGER:-PT10M
DESCRIPTION:Class Reminder
ACTION:DISPLAY
END:VALARM
END:VEVENT
END:VCALENDAR