BEGIN:VCALENDAR
VERSION:2.0
CALSCALE:GREGORIAN
BEGIN:VEVENT
URL:https://www.learndesk.us/class/6606029947142144/lesson/e9e0a3308afb53ae1269b319390ce327?ref=outlook-calendar
SUMMARY:Understanding "flex-grow"
DTSTART;TZID=America/Los_Angeles:20260422T190000
DTEND;TZID=America/Los_Angeles:20260422T200000
LOCATION:https://www.learndesk.us/class/6606029947142144/lesson/e9e0a3308afb53ae1269b319390ce327?ref=outlook-calendar
DESCRIPTION: We understood the default behaviour of our Flex Items, but what if we want to change the way the items behave if our viewport gets larger than the actual item width? Then it's time to learn more about "flex-grow".

https://www.learndesk.us/class/6606029947142144/lesson/e9e0a3308afb53ae1269b319390ce327?ref=outlook-calendar
STATUS:CONFIRMED
SEQUENCE:3
BEGIN:VALARM
TRIGGER:-PT10M
DESCRIPTION:Class Reminder
ACTION:DISPLAY
END:VALARM
END:VEVENT
END:VCALENDAR