BEGIN:VCALENDAR
VERSION:2.0
CALSCALE:GREGORIAN
BEGIN:VEVENT
URL:https://www.learndesk.us/class/6606029947142144/lesson/e764f0b504c9e6046c749308d07f9d65?ref=outlook-calendar
SUMMARY:Grouping Rules
DTSTART;TZID=America/Los_Angeles:20260422T190000
DTEND;TZID=America/Los_Angeles:20260422T200000
LOCATION:https://www.learndesk.us/class/6606029947142144/lesson/e764f0b504c9e6046c749308d07f9d65?ref=outlook-calendar
DESCRIPTION: Sometimes the same rules should be applied to different selectors. Turns out we can avoid repeating these rules again and again by grouping them. Let me show you how this works.

https://www.learndesk.us/class/6606029947142144/lesson/e764f0b504c9e6046c749308d07f9d65?ref=outlook-calendar
STATUS:CONFIRMED
SEQUENCE:3
BEGIN:VALARM
TRIGGER:-PT10M
DESCRIPTION:Class Reminder
ACTION:DISPLAY
END:VALARM
END:VEVENT
END:VCALENDAR