BEGIN:VCALENDAR
VERSION:2.0
CALSCALE:GREGORIAN
BEGIN:VEVENT
URL:https://www.learndesk.us/class/6606029947142144/lesson/e6b670ae438eb1ecebd136bc8c53fc4c?ref=outlook-calendar
SUMMARY:Adding Nested Properties
DTSTART;TZID=America/Los_Angeles:20260422T190000
DTEND;TZID=America/Los_Angeles:20260422T200000
LOCATION:https://www.learndesk.us/class/6606029947142144/lesson/e6b670ae438eb1ecebd136bc8c53fc4c?ref=outlook-calendar
DESCRIPTION: We can not only nest selectors - we can do the same with properties. So how does that work then?

https://www.learndesk.us/class/6606029947142144/lesson/e6b670ae438eb1ecebd136bc8c53fc4c?ref=outlook-calendar
STATUS:CONFIRMED
SEQUENCE:3
BEGIN:VALARM
TRIGGER:-PT10M
DESCRIPTION:Class Reminder
ACTION:DISPLAY
END:VALARM
END:VEVENT
END:VCALENDAR