BEGIN:VCALENDAR
VERSION:2.0
CALSCALE:GREGORIAN
BEGIN:VEVENT
URL:https://www.learndesk.us/class/6606029947142144/lesson/e209502f7246104ea0ce07ecf893744c?ref=outlook-calendar
SUMMARY:Working with "fit-content"
DTSTART;TZID=America/Los_Angeles:20260423T190000
DTEND;TZID=America/Los_Angeles:20260423T200000
LOCATION:https://www.learndesk.us/class/6606029947142144/lesson/e209502f7246104ea0ce07ecf893744c?ref=outlook-calendar
DESCRIPTION: We successfully added the Grid but our image on the starting page is not displayed correctly anymore. Additionally the footer doesn't work as intended in the mobile mode. Let's work on these issues and also learn how to use "fit-content" in this lecture.

https://www.learndesk.us/class/6606029947142144/lesson/e209502f7246104ea0ce07ecf893744c?ref=outlook-calendar
STATUS:CONFIRMED
SEQUENCE:3
BEGIN:VALARM
TRIGGER:-PT10M
DESCRIPTION:Class Reminder
ACTION:DISPLAY
END:VALARM
END:VEVENT
END:VCALENDAR