BEGIN:VCALENDAR
VERSION:2.0
CALSCALE:GREGORIAN
BEGIN:VEVENT
URL:https://www.learndesk.us/class/6606029947142144/lesson/e18d725b3543efde33f80d932a29f8fc?ref=outlook-calendar
SUMMARY:Adding a Side Navigation Bar
DTSTART;TZID=America/Los_Angeles:20260423T190000
DTEND;TZID=America/Los_Angeles:20260423T200000
LOCATION:https://www.learndesk.us/class/6606029947142144/lesson/e18d725b3543efde33f80d932a29f8fc?ref=outlook-calendar
DESCRIPTION: We want to build a responsive website - for that we'll need a side menu. Time to add one - of course with help of JavaScript.

https://www.learndesk.us/class/6606029947142144/lesson/e18d725b3543efde33f80d932a29f8fc?ref=outlook-calendar
STATUS:CONFIRMED
SEQUENCE:3
BEGIN:VALARM
TRIGGER:-PT10M
DESCRIPTION:Class Reminder
ACTION:DISPLAY
END:VALARM
END:VEVENT
END:VCALENDAR