BEGIN:VCALENDAR
VERSION:2.0
CALSCALE:GREGORIAN
BEGIN:VEVENT
URL:https://www.learndesk.us/class/6606029947142144/lesson/de379007acfdd87e6fdf5c5cf12fd87d?ref=outlook-calendar
SUMMARY:Choosing the Right Unit
DTSTART;TZID=America/Los_Angeles:20260422T190000
DTEND;TZID=America/Los_Angeles:20260422T200000
LOCATION:https://www.learndesk.us/class/6606029947142144/lesson/de379007acfdd87e6fdf5c5cf12fd87d?ref=outlook-calendar
DESCRIPTION: Puh, these were a lot of new units, but which one should we use in which situation? Let me help you by providing some guidance in this lecture.

https://www.learndesk.us/class/6606029947142144/lesson/de379007acfdd87e6fdf5c5cf12fd87d?ref=outlook-calendar
STATUS:CONFIRMED
SEQUENCE:3
BEGIN:VALARM
TRIGGER:-PT10M
DESCRIPTION:Class Reminder
ACTION:DISPLAY
END:VALARM
END:VEVENT
END:VCALENDAR