BEGIN:VCALENDAR
VERSION:2.0
CALSCALE:GREGORIAN
BEGIN:VEVENT
URL:https://www.learndesk.us/class/6606029947142144/lesson/d92a600410b40b1c94ec823dc1ed548b?ref=outlook-calendar
SUMMARY:How we Could Improve our Project
DTSTART;TZID=America/Los_Angeles:20260422T190000
DTEND;TZID=America/Los_Angeles:20260422T200000
LOCATION:https://www.learndesk.us/class/6606029947142144/lesson/d92a600410b40b1c94ec823dc1ed548b?ref=outlook-calendar
DESCRIPTION: We achieved a great and responsive styling for our website, but let's have a closer look and see if there aren't some areas to improve the code structure.

https://www.learndesk.us/class/6606029947142144/lesson/d92a600410b40b1c94ec823dc1ed548b?ref=outlook-calendar
STATUS:CONFIRMED
SEQUENCE:3
BEGIN:VALARM
TRIGGER:-PT10M
DESCRIPTION:Class Reminder
ACTION:DISPLAY
END:VALARM
END:VEVENT
END:VCALENDAR