BEGIN:VCALENDAR
VERSION:2.0
CALSCALE:GREGORIAN
BEGIN:VEVENT
URL:https://www.learndesk.us/class/6606029947142144/lesson/d7a110736e06ec43ca5c319b82d22b47?ref=outlook-calendar
SUMMARY:Cleaning Up our Code
DTSTART;TZID=America/Los_Angeles:20260423T190000
DTEND;TZID=America/Los_Angeles:20260423T200000
LOCATION:https://www.learndesk.us/class/6606029947142144/lesson/d7a110736e06ec43ca5c319b82d22b47?ref=outlook-calendar
DESCRIPTION: We are almost done, let's have a final look and see if we have to clean up our code and if all units are applied correctly.

https://www.learndesk.us/class/6606029947142144/lesson/d7a110736e06ec43ca5c319b82d22b47?ref=outlook-calendar
STATUS:CONFIRMED
SEQUENCE:3
BEGIN:VALARM
TRIGGER:-PT10M
DESCRIPTION:Class Reminder
ACTION:DISPLAY
END:VALARM
END:VEVENT
END:VCALENDAR