BEGIN:VCALENDAR
VERSION:2.0
CALSCALE:GREGORIAN
BEGIN:VEVENT
URL:https://www.learndesk.us/class/6606029947142144/lesson/d5a10ade5948025efbd9e77db93b75e3?ref=outlook-calendar
SUMMARY:Understanding and Applying Transitions
DTSTART;TZID=America/Los_Angeles:20260422T190000
DTEND;TZID=America/Los_Angeles:20260422T200000
LOCATION:https://www.learndesk.us/class/6606029947142144/lesson/d5a10ade5948025efbd9e77db93b75e3?ref=outlook-calendar
DESCRIPTION: We got two different tools when it comes to animating things in CSS. Let's start with CSS transitions and understand how these work.

https://www.learndesk.us/class/6606029947142144/lesson/d5a10ade5948025efbd9e77db93b75e3?ref=outlook-calendar
STATUS:CONFIRMED
SEQUENCE:3
BEGIN:VALARM
TRIGGER:-PT10M
DESCRIPTION:Class Reminder
ACTION:DISPLAY
END:VALARM
END:VEVENT
END:VCALENDAR