BEGIN:VCALENDAR
VERSION:2.0
CALSCALE:GREGORIAN
BEGIN:VEVENT
URL:https://www.learndesk.us/class/6606029947142144/lesson/d3a6773a8fe4464f0c96ce9df394f7fa?ref=outlook-calendar
SUMMARY:The "background" Shorthand – Theory
DTSTART;TZID=America/Los_Angeles:20260422T190000
DTEND;TZID=America/Los_Angeles:20260422T200000
LOCATION:https://www.learndesk.us/class/6606029947142144/lesson/d3a6773a8fe4464f0c96ce9df394f7fa?ref=outlook-calendar
DESCRIPTION: Now that we had a closer look at some background properties, let's explorer a shorter version of defining them.

https://www.learndesk.us/class/6606029947142144/lesson/d3a6773a8fe4464f0c96ce9df394f7fa?ref=outlook-calendar
STATUS:CONFIRMED
SEQUENCE:3
BEGIN:VALARM
TRIGGER:-PT10M
DESCRIPTION:Class Reminder
ACTION:DISPLAY
END:VALARM
END:VEVENT
END:VCALENDAR