BEGIN:VCALENDAR
VERSION:2.0
CALSCALE:GREGORIAN
BEGIN:VEVENT
URL:https://www.learndesk.us/class/6606029947142144/lesson/d16767ebdf1150147d2e169416a13240?ref=outlook-calendar
SUMMARY:Adding a Modal
DTSTART;TZID=America/Los_Angeles:20260422T190000
DTEND;TZID=America/Los_Angeles:20260422T200000
LOCATION:https://www.learndesk.us/class/6606029947142144/lesson/d16767ebdf1150147d2e169416a13240?ref=outlook-calendar
DESCRIPTION: A modal element is a typically feature to add to a web page. It depends heavily on CSS but also on JavaScript. Learn more about how you can show and hide it via JavaScript in this module.

https://www.learndesk.us/class/6606029947142144/lesson/d16767ebdf1150147d2e169416a13240?ref=outlook-calendar
STATUS:CONFIRMED
SEQUENCE:3
BEGIN:VALARM
TRIGGER:-PT10M
DESCRIPTION:Class Reminder
ACTION:DISPLAY
END:VALARM
END:VEVENT
END:VCALENDAR