BEGIN:VCALENDAR
VERSION:2.0
CALSCALE:GREGORIAN
BEGIN:VEVENT
URL:https://www.learndesk.us/class/6606029947142144/lesson/d1666302b1b69f4491b21cb9597bedcd?ref=outlook-calendar
SUMMARY:Adding Flexbox to the Customers Page
DTSTART;TZID=America/Los_Angeles:20260422T190000
DTEND;TZID=America/Los_Angeles:20260422T200000
LOCATION:https://www.learndesk.us/class/6606029947142144/lesson/d1666302b1b69f4491b21cb9597bedcd?ref=outlook-calendar
DESCRIPTION: The starting page is also done, time to apply Flexbox one last time - the customer’s page also needs to be improved.

https://www.learndesk.us/class/6606029947142144/lesson/d1666302b1b69f4491b21cb9597bedcd?ref=outlook-calendar
STATUS:CONFIRMED
SEQUENCE:3
BEGIN:VALARM
TRIGGER:-PT10M
DESCRIPTION:Class Reminder
ACTION:DISPLAY
END:VALARM
END:VEVENT
END:VCALENDAR