BEGIN:VCALENDAR
VERSION:2.0
CALSCALE:GREGORIAN
BEGIN:VEVENT
URL:https://www.learndesk.us/class/6606029947142144/lesson/d068ec81024235fd94fc228a55e262c5?ref=outlook-calendar
SUMMARY:Working with Locally Saved Fonts
DTSTART;TZID=America/Los_Angeles:20260422T190000
DTEND;TZID=America/Los_Angeles:20260422T200000
LOCATION:https://www.learndesk.us/class/6606029947142144/lesson/d068ec81024235fd94fc228a55e262c5?ref=outlook-calendar
DESCRIPTION: The goal of our website is to attract as many users as possible - and the website should look equal for all these users. Therefore using a unique font which might not be available for all users can cause problems, so let's have a look at this issue.

https://www.learndesk.us/class/6606029947142144/lesson/d068ec81024235fd94fc228a55e262c5?ref=outlook-calendar
STATUS:CONFIRMED
SEQUENCE:3
BEGIN:VALARM
TRIGGER:-PT10M
DESCRIPTION:Class Reminder
ACTION:DISPLAY
END:VALARM
END:VEVENT
END:VCALENDAR