BEGIN:VCALENDAR
VERSION:2.0
CALSCALE:GREGORIAN
BEGIN:VEVENT
URL:https://www.learndesk.us/class/6606029947142144/lesson/ce444445c93976568b44bc5d0609093c?ref=outlook-calendar
SUMMARY:Using the Default Font Families
DTSTART;TZID=America/Los_Angeles:20260423T190000
DTEND;TZID=America/Los_Angeles:20260423T200000
LOCATION:https://www.learndesk.us/class/6606029947142144/lesson/ce444445c93976568b44bc5d0609093c?ref=outlook-calendar
DESCRIPTION: We had a look at the browser settings, so let's now see how the browser uses the default font families in practice in our project website.

https://www.learndesk.us/class/6606029947142144/lesson/ce444445c93976568b44bc5d0609093c?ref=outlook-calendar
STATUS:CONFIRMED
SEQUENCE:3
BEGIN:VALARM
TRIGGER:-PT10M
DESCRIPTION:Class Reminder
ACTION:DISPLAY
END:VALARM
END:VEVENT
END:VCALENDAR