BEGIN:VCALENDAR
VERSION:2.0
CALSCALE:GREGORIAN
BEGIN:VEVENT
URL:https://www.learndesk.us/class/6606029947142144/lesson/cd6e8c9232da61e56202a07984b4a433?ref=outlook-calendar
SUMMARY:Working on the Recommended Plan
DTSTART;TZID=America/Los_Angeles:20260423T190000
DTEND;TZID=America/Los_Angeles:20260423T200000
LOCATION:https://www.learndesk.us/class/6606029947142144/lesson/cd6e8c9232da61e56202a07984b4a433?ref=outlook-calendar
DESCRIPTION: We want our users to focus onto the recommended plan. Let's use our CSS knowledge to highlight this plan.

https://www.learndesk.us/class/6606029947142144/lesson/cd6e8c9232da61e56202a07984b4a433?ref=outlook-calendar
STATUS:CONFIRMED
SEQUENCE:3
BEGIN:VALARM
TRIGGER:-PT10M
DESCRIPTION:Class Reminder
ACTION:DISPLAY
END:VALARM
END:VEVENT
END:VCALENDAR