BEGIN:VCALENDAR
VERSION:2.0
CALSCALE:GREGORIAN
BEGIN:VEVENT
URL:https://www.learndesk.us/class/6606029947142144/lesson/cd3efca76b1274e7fff7bf2e09ec7566?ref=outlook-calendar
SUMMARY:Making the Plans Responsive
DTSTART;TZID=America/Los_Angeles:20260422T190000
DTEND;TZID=America/Los_Angeles:20260422T200000
LOCATION:https://www.learndesk.us/class/6606029947142144/lesson/cd3efca76b1274e7fff7bf2e09ec7566?ref=outlook-calendar
DESCRIPTION: We have wonderful mobile plans, but the desktop version is not displayed as intended. Time to optimize that.

https://www.learndesk.us/class/6606029947142144/lesson/cd3efca76b1274e7fff7bf2e09ec7566?ref=outlook-calendar
STATUS:CONFIRMED
SEQUENCE:3
BEGIN:VALARM
TRIGGER:-PT10M
DESCRIPTION:Class Reminder
ACTION:DISPLAY
END:VALARM
END:VEVENT
END:VCALENDAR