BEGIN:VCALENDAR
VERSION:2.0
CALSCALE:GREGORIAN
BEGIN:VEVENT
URL:https://www.learndesk.us/class/6606029947142144/lesson/cd24c38bab5c3a0d9f31a1c9e5926bd4?ref=outlook-calendar
SUMMARY:Optional: Advanced Track Introduction
DTSTART;TZID=America/Los_Angeles:20260422T190000
DTEND;TZID=America/Los_Angeles:20260422T200000
LOCATION:https://www.learndesk.us/class/6606029947142144/lesson/cd24c38bab5c3a0d9f31a1c9e5926bd4?ref=outlook-calendar
DESCRIPTION: 
You already knew the CSS basics before and just wanted to enhance this knowledge? Then this is your starting point for this course, so let me give you a quick overview of what we achieved up to this point in the beginner's track.


https://www.learndesk.us/class/6606029947142144/lesson/cd24c38bab5c3a0d9f31a1c9e5926bd4?ref=outlook-calendar
STATUS:CONFIRMED
SEQUENCE:3
BEGIN:VALARM
TRIGGER:-PT10M
DESCRIPTION:Class Reminder
ACTION:DISPLAY
END:VALARM
END:VEVENT
END:VCALENDAR