BEGIN:VCALENDAR
VERSION:2.0
CALSCALE:GREGORIAN
BEGIN:VEVENT
URL:https://www.learndesk.us/class/6606029947142144/lesson/cb6de121daefd7b9ee0470163a2cc1b0?ref=outlook-calendar
SUMMARY:Working on the Title and the Price of our Packages
DTSTART;TZID=America/Los_Angeles:20260422T190000
DTEND;TZID=America/Los_Angeles:20260422T200000
LOCATION:https://www.learndesk.us/class/6606029947142144/lesson/cb6de121daefd7b9ee0470163a2cc1b0?ref=outlook-calendar
DESCRIPTION: Let's continue with the title and the price presented on our plans. So far these look pretty unspectacular, time to change that presented on our plans. So far these look pretty unspectacular, time to change that.

https://www.learndesk.us/class/6606029947142144/lesson/cb6de121daefd7b9ee0470163a2cc1b0?ref=outlook-calendar
STATUS:CONFIRMED
SEQUENCE:3
BEGIN:VALARM
TRIGGER:-PT10M
DESCRIPTION:Class Reminder
ACTION:DISPLAY
END:VALARM
END:VEVENT
END:VCALENDAR