BEGIN:VCALENDAR
VERSION:2.0
CALSCALE:GREGORIAN
BEGIN:VEVENT
URL:https://www.learndesk.us/class/6606029947142144/lesson/c9214b4690dcd221c3143d4ef1542ee9?ref=outlook-calendar
SUMMARY:Understanding Font Formats
DTSTART;TZID=America/Los_Angeles:20260423T190000
DTEND;TZID=America/Los_Angeles:20260423T200000
LOCATION:https://www.learndesk.us/class/6606029947142144/lesson/c9214b4690dcd221c3143d4ef1542ee9?ref=outlook-calendar
DESCRIPTION: The font faces applied so far used the .ttf format. As there are multiple font formats available, we should dive deeper into these and learn which formats might be a good choice and which we might not necessarily need

https://www.learndesk.us/class/6606029947142144/lesson/c9214b4690dcd221c3143d4ef1542ee9?ref=outlook-calendar
STATUS:CONFIRMED
SEQUENCE:3
BEGIN:VALARM
TRIGGER:-PT10M
DESCRIPTION:Class Reminder
ACTION:DISPLAY
END:VALARM
END:VEVENT
END:VCALENDAR