BEGIN:VCALENDAR
VERSION:2.0
CALSCALE:GREGORIAN
BEGIN:VEVENT
URL:https://www.learndesk.us/class/6606029947142144/lesson/c8fe901ab2df13ed0a4210a036ebfad6?ref=outlook-calendar
SUMMARY:Where Units Matter
DTSTART;TZID=America/Los_Angeles:20260424T190000
DTEND;TZID=America/Los_Angeles:20260424T200000
LOCATION:https://www.learndesk.us/class/6606029947142144/lesson/c8fe901ab2df13ed0a4210a036ebfad6?ref=outlook-calendar
DESCRIPTION: Which additional units do we have and are there any core properties these can be applied to? Let's have a look in this lecture.

https://www.learndesk.us/class/6606029947142144/lesson/c8fe901ab2df13ed0a4210a036ebfad6?ref=outlook-calendar
STATUS:CONFIRMED
SEQUENCE:3
BEGIN:VALARM
TRIGGER:-PT10M
DESCRIPTION:Class Reminder
ACTION:DISPLAY
END:VALARM
END:VEVENT
END:VCALENDAR