BEGIN:VCALENDAR
VERSION:2.0
CALSCALE:GREGORIAN
BEGIN:VEVENT
URL:https://www.learndesk.us/class/6606029947142144/lesson/c5664551f35e92daaf5e7bdae24a277f?ref=outlook-calendar
SUMMARY:Working with Logical Operators
DTSTART;TZID=America/Los_Angeles:20260423T190000
DTEND;TZID=America/Los_Angeles:20260423T200000
LOCATION:https://www.learndesk.us/class/6606029947142144/lesson/c5664551f35e92daaf5e7bdae24a277f?ref=outlook-calendar
DESCRIPTION: So far our media queries were only based on one condition, but we can do more. Let's have a look at logical operators and understand how these allow us to combine multiple conditions in our media queries.

https://www.learndesk.us/class/6606029947142144/lesson/c5664551f35e92daaf5e7bdae24a277f?ref=outlook-calendar
STATUS:CONFIRMED
SEQUENCE:3
BEGIN:VALARM
TRIGGER:-PT10M
DESCRIPTION:Class Reminder
ACTION:DISPLAY
END:VALARM
END:VEVENT
END:VCALENDAR