BEGIN:VCALENDAR
VERSION:2.0
CALSCALE:GREGORIAN
BEGIN:VEVENT
URL:https://www.learndesk.us/class/6606029947142144/lesson/c51bfe6a777b06c1f2d7cd27dcbf1880?ref=outlook-calendar
SUMMARY:Applying "flex-shrink"
DTSTART;TZID=America/Los_Angeles:20260423T190000
DTEND;TZID=America/Los_Angeles:20260423T200000
LOCATION:https://www.learndesk.us/class/6606029947142144/lesson/c51bfe6a777b06c1f2d7cd27dcbf1880?ref=outlook-calendar
DESCRIPTION: Having an impact on the growth behaviour of the Flex Items is possible, so the same thing should also be possible the other way round, shouldn't it? Turns out this is possible, so let me show you how this works in this lecture.

https://www.learndesk.us/class/6606029947142144/lesson/c51bfe6a777b06c1f2d7cd27dcbf1880?ref=outlook-calendar
STATUS:CONFIRMED
SEQUENCE:3
BEGIN:VALARM
TRIGGER:-PT10M
DESCRIPTION:Class Reminder
ACTION:DISPLAY
END:VALARM
END:VEVENT
END:VCALENDAR