BEGIN:VCALENDAR
VERSION:2.0
CALSCALE:GREGORIAN
BEGIN:VEVENT
URL:https://www.learndesk.us/class/6606029947142144/lesson/c45519c94f5c03f56fc0cb15e4cd4acc?ref=outlook-calendar
SUMMARY:Understanding the Display Property
DTSTART;TZID=America/Los_Angeles:20260423T190000
DTEND;TZID=America/Los_Angeles:20260423T200000
LOCATION:https://www.learndesk.us/class/6606029947142144/lesson/c45519c94f5c03f56fc0cb15e4cd4acc?ref=outlook-calendar
DESCRIPTION: We have two types of elements in HTML - block-level and inline. But is there a way to change the default behaviour of these elements? Turns out it is, so let's find out how we can achieve this and why this might be helpful in certain situations.

https://www.learndesk.us/class/6606029947142144/lesson/c45519c94f5c03f56fc0cb15e4cd4acc?ref=outlook-calendar
STATUS:CONFIRMED
SEQUENCE:3
BEGIN:VALARM
TRIGGER:-PT10M
DESCRIPTION:Class Reminder
ACTION:DISPLAY
END:VALARM
END:VEVENT
END:VCALENDAR