BEGIN:VCALENDAR
VERSION:2.0
CALSCALE:GREGORIAN
BEGIN:VEVENT
URL:https://www.learndesk.us/class/6606029947142144/lesson/c44b4c02fcca8011a833a9f1743b140b?ref=outlook-calendar
SUMMARY:Finishing "rem"
DTSTART;TZID=America/Los_Angeles:20260422T190000
DTEND;TZID=America/Los_Angeles:20260422T200000
LOCATION:https://www.learndesk.us/class/6606029947142144/lesson/c44b4c02fcca8011a833a9f1743b140b?ref=outlook-calendar
DESCRIPTION: You finished your challenge - so let's have a look at the other .css files and exchange "px" with "rem".

https://www.learndesk.us/class/6606029947142144/lesson/c44b4c02fcca8011a833a9f1743b140b?ref=outlook-calendar
STATUS:CONFIRMED
SEQUENCE:3
BEGIN:VALARM
TRIGGER:-PT10M
DESCRIPTION:Class Reminder
ACTION:DISPLAY
END:VALARM
END:VEVENT
END:VCALENDAR